BEGIN:VCALENDAR
VERSION:2.0
PRODID:-//ChamberMaster//Event Calendar 2.0//EN
METHOD:PUBLISH
X-PUBLISHED-TTL:P3D
REFRESH-INTERVAL:P3D
CALSCALE:GREGORIAN
BEGIN:VEVENT
DTSTART:20230629T170000Z
DTEND:20230629T180000Z
X-MICROSOFT-CDO-ALLDAYEVENT:FALSE
SUMMARY:Cómo Preparar su Negocio para un Préstamo Comercial
DESCRIPTION:Est s buscando llevar su negocio a nuevas alturas?  Necesita apoyo financiero para empezar sus planes de crecimiento y expansi n?  No busque m s! Lo invitamos a un taller exclusivo sobre "Preparaci n de su negocio para un pr stamo comercial" que lo equipar  con el conocimiento y las herramientas para asegurar el financiamiento que necesita. En este taller\, nos sumergiremos profundamente en el mundo de los pr stamos comerciales\, explorando los entresijos del proceso de solicitud\, la comprensi n de los diferentes tipos de pr stamos disponibles y el descubrimiento de estrategias para maximizar sus posibilidades de aprobaci n. Ya sea que sea una empresa nueva o establecida\, este taller est  dise ado para atender a todos.
X-ALT-DESC;FMTTYPE=text/html:&iquest\;Est&aacute\;s buscando llevar su negocio a nuevas alturas? &iquest\;Necesita apoyo financiero para empezar sus planes de crecimiento y expansi&oacute\;n? &iexcl\;No busque m&aacute\;s! Lo invitamos a un taller exclusivo sobre &quot\;Preparaci&oacute\;n de su negocio para un pr&eacute\;stamo comercial&quot\; que lo equipar&aacute\; con el conocimiento y las herramientas para asegurar el financiamiento que necesita. En este taller\, nos sumergiremos profundamente en el mundo de los pr&eacute\;stamos comerciales\, explorando los entresijos del proceso de solicitud\, la comprensi&oacute\;n de los diferentes tipos de pr&eacute\;stamos disponibles y el descubrimiento de estrategias para maximizar sus posibilidades de aprobaci&oacute\;n. Ya sea que sea una empresa nueva o establecida\, este taller est&aacute\; dise&ntilde\;ado para atender a todos.<br />\n<br />\n&nbsp\;
LOCATION:Este es un evento h brido. Usted puede participar en l nea a trav s de Zoom o presencialmente en The Community Room en el Departamento de Polic a de Salinas situado en 312 E Alisal St\, Salinas\, CA 93901
UID:e.3584.66
SEQUENCE:3
DTSTAMP:20260423T020657Z
URL:http://members.mcbc.biz/events/details/c&#243;mo-preparar-su-negocio-para-un-pr&#233;stamo-comercial-66
END:VEVENT

END:VCALENDAR
